BEGIN:VCALENDAR
VERSION:2.0
PRODID:icalendar-ruby
CALSCALE:GREGORIAN
METHOD:PUBLISH
BEGIN:VEVENT
DTSTAMP:20260424T115724Z
UID:5-1373598@fearlesscc.org
DTSTART:20260927T193000Z
DTEND:20260927T203000Z
CLASS:PUBLIC
CREATED:20260423T194350
DESCRIPTION:Sunday Worship
LAST-MODIFIED:20260423T194350
LOCATION:
SUMMARY:Sunday Worship
URL;VALUE=URI:https://fearlesscc.org/events/sunday-worship/2026-09-27
END:VEVENT
END:VCALENDAR
