BEGIN:VCALENDAR
VERSION:2.0
PRODID:icalendar-ruby
CALSCALE:GREGORIAN
METHOD:PUBLISH
BEGIN:VEVENT
DTSTAMP:20260424T143008Z
UID:5-1374184@fearlesscc.org
DTSTART:20261011T193000Z
DTEND:20261011T203000Z
CLASS:PUBLIC
CREATED:20260424T051213
DESCRIPTION:Sunday Worship
LAST-MODIFIED:20260424T051213
LOCATION:
SUMMARY:Sunday Worship
URL;VALUE=URI:https://fearlesscc.org/events/sunday-worship/2026-10-11
END:VEVENT
END:VCALENDAR
