BEGIN:VCALENDAR
VERSION:2.0
PRODID:icalendar-ruby
CALSCALE:GREGORIAN
METHOD:PUBLISH
BEGIN:VEVENT
DTSTAMP:20260424T171947Z
UID:5-1374771@fearlesscc.org
DTSTART:20261025T193000Z
DTEND:20261025T203000Z
CLASS:PUBLIC
CREATED:20260424T080506
DESCRIPTION:Sunday Worship
LAST-MODIFIED:20260424T080506
LOCATION:
SUMMARY:Sunday Worship
URL;VALUE=URI:https://fearlesscc.org/events/sunday-worship/2026-10-25
END:VEVENT
END:VCALENDAR
