BEGIN:VCALENDAR
VERSION:2.0
PRODID:icalendar-ruby
CALSCALE:GREGORIAN
METHOD:PUBLISH
BEGIN:VEVENT
DTSTAMP:20260424T184508Z
UID:5-1375357@fearlesscc.org
DTSTART:20261101T203000Z
DTEND:20261101T213000Z
CLASS:PUBLIC
CREATED:20260424T105149
DESCRIPTION:Sunday Worship
LAST-MODIFIED:20260424T105149
LOCATION:
SUMMARY:Sunday Worship
URL;VALUE=URI:https://fearlesscc.org/events/sunday-worship/2026-11-01
END:VEVENT
END:VCALENDAR
